BEGIN:VCALENDAR
VERSION:2.0
PRODID:-//Kingman Soccer Club - ECPv6.15.20//NONSGML v1.0//EN
CALSCALE:GREGORIAN
METHOD:PUBLISH
X-ORIGINAL-URL:https://kingmansoccer.com
X-WR-CALDESC:Events for Kingman Soccer Club
REFRESH-INTERVAL;VALUE=DURATION:PT1H
X-Robots-Tag:noindex
X-PUBLISHED-TTL:PT1H
BEGIN:VTIMEZONE
TZID:America/Phoenix
BEGIN:STANDARD
TZOFFSETFROM:-0700
TZOFFSETTO:-0700
TZNAME:MST
DTSTART:20200101T000000
END:STANDARD
END:VTIMEZONE
BEGIN:VEVENT
DTSTART;TZID=America/Phoenix:20240127T100000
DTEND;TZID=America/Phoenix:20240127T120000
DTSTAMP:20260423T094020
CREATED:20240112T191550Z
LAST-MODIFIED:20240125T220416Z
UID:2579-1706349600-1706356800@kingmansoccer.com
SUMMARY:KYSL Annual General Meeting
DESCRIPTION:
URL:https://kingmansoccer.com/event/kysl-annual-general-meeting/
LOCATION:Mohave County Sheriffs Office – Meeting Room\, 600 West Beale Street\, Kingman\, AZ\, 86401\, United States
ORGANIZER;CN="Director of Referees":MAILTO:directorofreferees@kingmansoccer.com
END:VEVENT
BEGIN:VEVENT
DTSTART;TZID=America/Phoenix:20231104T090000
DTEND;TZID=America/Phoenix:20231104T110000
DTSTAMP:20260423T094020
CREATED:20230602T172827Z
LAST-MODIFIED:20231025T230627Z
UID:1195-1699088400-1699095600@kingmansoccer.com
SUMMARY:9-11am Medal Photo Op and Pickup KYSL TENT
DESCRIPTION:This is the opportunity for the top finishing teams in the division to pickup medals and present for fan a photo op. The KYSL tent will be present 9-11 to present medals. Additionally this would be great time for coaches bag drop offs.
URL:https://kingmansoccer.com/event/championship-games-1st-2nd-place-only-division-u10-to-u17-closing-ceremonies/
LOCATION:Centennial Park – Kingman\, AZ\, 3333 Harrison St\, Kingman\, AZ\, 86409\, United States
END:VEVENT
BEGIN:VEVENT
DTSTART;VALUE=DATE:20231028
DTEND;VALUE=DATE:20231029
DTSTAMP:20260423T094020
CREATED:20230602T172420Z
LAST-MODIFIED:20230602T172420Z
UID:1189-1698451200-1698537599@kingmansoccer.com
SUMMARY:Week 8 of Games
DESCRIPTION:
URL:https://kingmansoccer.com/event/week-8-of-games/
LOCATION:Centennial Park – Kingman\, AZ\, 3333 Harrison St\, Kingman\, AZ\, 86409\, United States
END:VEVENT
BEGIN:VEVENT
DTSTART;VALUE=DATE:20231021
DTEND;VALUE=DATE:20231022
DTSTAMP:20260423T094020
CREATED:20230602T172350Z
LAST-MODIFIED:20230602T172350Z
UID:1187-1697846400-1697932799@kingmansoccer.com
SUMMARY:Week 7 of Games
DESCRIPTION:
URL:https://kingmansoccer.com/event/week-7-of-games/
LOCATION:Centennial Park – Kingman\, AZ\, 3333 Harrison St\, Kingman\, AZ\, 86409\, United States
END:VEVENT
BEGIN:VEVENT
DTSTART;VALUE=DATE:20231014
DTEND;VALUE=DATE:20231015
DTSTAMP:20260423T094020
CREATED:20230602T172324Z
LAST-MODIFIED:20230602T172324Z
UID:1185-1697241600-1697327999@kingmansoccer.com
SUMMARY:Week 6 of Games
DESCRIPTION:
URL:https://kingmansoccer.com/event/week-6-of-games/
LOCATION:Centennial Park – Kingman\, AZ\, 3333 Harrison St\, Kingman\, AZ\, 86409\, United States
END:VEVENT
BEGIN:VEVENT
DTSTART;VALUE=DATE:20231007
DTEND;VALUE=DATE:20231008
DTSTAMP:20260423T094020
CREATED:20230602T172202Z
LAST-MODIFIED:20230602T172202Z
UID:1183-1696636800-1696723199@kingmansoccer.com
SUMMARY:Week 5 of Games
DESCRIPTION:
URL:https://kingmansoccer.com/event/week-5-of-games/
LOCATION:Centennial Park – Kingman\, AZ\, 3333 Harrison St\, Kingman\, AZ\, 86409\, United States
END:VEVENT
BEGIN:VEVENT
DTSTART;TZID=America/Phoenix:20230930T080000
DTEND;TZID=America/Phoenix:20230930T170000
DTSTAMP:20260423T094020
CREATED:20230908T190230Z
LAST-MODIFIED:20230912T233337Z
UID:2372-1696060800-1696093200@kingmansoccer.com
SUMMARY:2023 Picture Schedule
DESCRIPTION:Jason from Strada asked that we make sure that the coaches know they can swap amongst themselves but they need to contact Strada Studios directly (928.224.8344) so they can update their schedule. \nBoard Members will get a head shot. When your team is up or of talk to Strada to hop in. \nClub Head coaches will also get an individual head shot when your teams come up. Please make them aware you are  additional club coach to get that head shot. Currently this is only for coaches with an existing club team. \n2023 Sept 16th Picture Schedule\n    \n    \n    \n\n    \n        \n        \n        \n\n\n                    Time        Camera 1        Camera 2        Camera 3            \n\n        \n\n        \n        \n\n        \n                    08:00 AM\n                    \n                    BU6 Capriles\n                    \n                    \n            \n            \n                    08:20 AM\n                    GH Copper Canyon Plumbing\n                    GH Cultivate Energy Yoga\n                    \n                    \n            \n            \n                    08:40 AM\n                    GU14 Simple Grace Decor\n                    GU14 Trotter's RV Sales\n                    \n                    \n            \n            \n                    09:00 AM\n                    BU6 Oktay\n                    BU6 The Lander Team\n                    GU8 Angle Homes\n                    \n            \n            \n                    09:20 AM\n                    BU 6 Behrends\n                    BU8 Scroggins\n                    BU10 McGill\n                    \n            \n            \n                    09:40 AM\n                    GU6 Angle Homes\n                    \n                    BU14 Patriot Fence & Handyman\n                    \n            \n            \n                    10:00 AM\n                    GU12 Mobile Munchies\n                    BU6 Strada\n                    BU6 Stutler Cabinets\n                    \n            \n            \n                    10:20 AM\n                    BU8 High Desert Hyundai\n                    GU10 Kingman Dermatology\n                    GU8 The Tilted Tulip\n                    \n            \n            \n                    10:40 AM\n                    BU14 Bulldog Disposal\n                    BU14 Mohave Eye\n                    BU8 K-Town Bouncers\n                    \n            \n            \n                    11:00 AM\n                    BU17 Monolith Diagnostics\n                    BU10 Kingman's Cut Lounge\n                    \n                    \n            \n            \n                    11:20 AM\n                    \n                    GU12 High Desert Hyundai\n                    GU12 Kingman Honda\n                    \n            \n            \n                    11:40 AM\n                    BU8 Richard Davis Plumbing\n                    BU8 Pesty Pest Control\n                    BU8 River Rock Promotions\n                    \n            \n            \n                    12:00 PM\n                    GU10 Cerbat Dental\n                    GU10 Real Property Management\n                    \n                    \n            \n            \n                    12:20 PM\n                    GU12 Parvalthaneni Nephrology\n                    \n                    \n                    \n            \n            \n                    12:40 PM\n                    \n                    \n                    \n                    \n            \n            \n                    01:00 PM\n                    BU10 Barkhurst Electric\n                    BU10 Manglesdorf Fam Dentistry\n                    BU12 FOP\n                    \n            \n            \n                    01:20 PM\n                    GU17 The Human Bean\n                    GU10 Eads Quality Top Shop\n                    BU12 Arizona Desert Dermatology\n                    \n            \n            \n\n        \n    \n\n        Generated by wpDataTables\n\n\nLocation \n \n  \nJason from Strada asked that we make sure that the coaches know they can swap amongst themselves but they need to contact Strada Studios directly (928.224.8344) so they can update their schedule.
URL:https://kingmansoccer.com/event/2023-picture-schedule-2/
LOCATION:AZ
END:VEVENT
BEGIN:VEVENT
DTSTART;VALUE=DATE:20230930
DTEND;VALUE=DATE:20231001
DTSTAMP:20260423T094020
CREATED:20230602T172123Z
LAST-MODIFIED:20230602T172123Z
UID:1181-1696032000-1696118399@kingmansoccer.com
SUMMARY:Week 4 of Games
DESCRIPTION:
URL:https://kingmansoccer.com/event/week-4-of-games/
LOCATION:Centennial Park – Kingman\, AZ\, 3333 Harrison St\, Kingman\, AZ\, 86409\, United States
END:VEVENT
BEGIN:VEVENT
DTSTART;TZID=America/Phoenix:20230923T100000
DTEND;TZID=America/Phoenix:20230923T123000
DTSTAMP:20260423T094020
CREATED:20230915T174309Z
LAST-MODIFIED:20230915T174511Z
UID:2487-1695463200-1695472200@kingmansoccer.com
SUMMARY:53rd Annual Andy Devine Days Parade
DESCRIPTION:League games will commence at 12Pm this day to account for the parade \n53rd Annual Andy Devine Days Parade \n“Turquoise & Cowboys” \nSaturday\, September 23\, 2023 \nIt’s that time of year where the Kingman community comes together to celebrate the Annual Andy Devine Days Parade. Participating in this annual event will make you feel like a part of the legend that has become Andy Devine Days. Each year\, entries in this parade celebrate Kingman’s western heritage and its roots in the railroad\, Route 66\, ranching\, and rodeos. Enjoy all that Kingman has to offer as we remember the past and look toward the future. \nApplications are now available at the Parks & Recreation Office located at 3333 N. Harrison\, or by calling 928.757.7919. Applications also available on the web at www.cityofkingman.gov; click on Parks & Recreation and look under the Forms and Information section to obtain an entry form. \nEveryone is welcome to participate and it’s FREE. Participants are strongly encouraged to design and build float entries around the current year’s theme\, “Turquoise & Cowboys.” Participation plaques are available for purchase to all parade entries for a $30 charge and must be paid at the time of application. Deadline to enter this year’s parade is September 15th! \n 
URL:https://kingmansoccer.com/event/2487/
LOCATION:AZ
END:VEVENT
BEGIN:VEVENT
DTSTART;VALUE=DATE:20230923
DTEND;VALUE=DATE:20230924
DTSTAMP:20260423T094020
CREATED:20230602T172056Z
LAST-MODIFIED:20230901T180135Z
UID:1179-1695427200-1695513599@kingmansoccer.com
SUMMARY:Week 3 of Games and 2nd Picture Dat
DESCRIPTION:
URL:https://kingmansoccer.com/event/week-3-of-games-day-2-of-pictures/
LOCATION:Centennial Park – Kingman\, AZ\, 3333 Harrison St\, Kingman\, AZ\, 86409\, United States
END:VEVENT
BEGIN:VEVENT
DTSTART;TZID=America/Phoenix:20230922T180000
DTEND;TZID=America/Phoenix:20230922T200000
DTSTAMP:20260423T094020
CREATED:20230826T232711Z
LAST-MODIFIED:20230914T154859Z
UID:1750-1695405600-1695412800@kingmansoccer.com
SUMMARY:Club Tryouts 9/22/2023
DESCRIPTION:Kingman SC will hold annual tryouts at Cenntenial Park. We have openings in all age groups u8 and up. \n \n  \n 
URL:https://kingmansoccer.com/event/club-tryouts-save-the-date/
LOCATION:Centennial Park – Kingman\, AZ\, 3333 Harrison St\, Kingman\, AZ\, 86409\, United States
CATEGORIES:Special Events
END:VEVENT
BEGIN:VEVENT
DTSTART;TZID=America/Phoenix:20230918T180000
DTEND;TZID=America/Phoenix:20230918T210000
DTSTAMP:20260423T094020
CREATED:20230918T165312Z
LAST-MODIFIED:20230918T170016Z
UID:2497-1695060000-1695070800@kingmansoccer.com
SUMMARY:Club Coaches Meeting 6PM
DESCRIPTION:6PM at UniSource \nThis is a discussion prior to club tryouts on 9/22/2024. \nPlease park around back and use the back entrance and proceed to the conference room. \n  \n \n  \n 
URL:https://kingmansoccer.com/event/club-coaches-meeting-6pm/
LOCATION:Unisource\, 2498 Airway Ave\, Kingman\, AZ\, 86409\, United States
END:VEVENT
BEGIN:VEVENT
DTSTART;VALUE=DATE:20230916
DTEND;VALUE=DATE:20230917
DTSTAMP:20260423T094020
CREATED:20230908T185029Z
LAST-MODIFIED:20230915T161930Z
UID:2354-1694822400-1694908799@kingmansoccer.com
SUMMARY:2023 Picture Schedule
DESCRIPTION:Jason from Strada asked that we make sure that the coaches know they can swap amongst themselves but they need to contact Strada Studios directly (928.224.8344) so they can update their schedule. \nBoard Members will get a head shot. When your team is up or of talk to Strada to hop in. \nClub Head coaches will also get an individual head shot when your teams come up. Please make them aware you are  additional club coach to get that head shot. Currently this is only for coaches with an existing club team. \nHere is the live link from Strada \nhttps://docs.google.com/spreadsheets/d/1k_4n5zMCdqgcUGyIGNfZCXuxMkRoxqMOk2Yinfwcoh8/edit?pli=1#gid=0 \n2023 Sept 16th Picture Schedule\n    \n    \n    \n\n    \n        \n        \n        \n\n\n                    Time        Camera 1        Camera 2        Camera 3            \n\n        \n\n        \n        \n\n        \n                    08:00 AM\n                    \n                    BU6 Capriles\n                    \n                    \n            \n            \n                    08:20 AM\n                    GH Copper Canyon Plumbing\n                    GH Cultivate Energy Yoga\n                    \n                    \n            \n            \n                    08:40 AM\n                    GU14 Simple Grace Decor\n                    GU14 Trotter's RV Sales\n                    \n                    \n            \n            \n                    09:00 AM\n                    BU6 Oktay\n                    BU6 The Lander Team\n                    GU8 Angle Homes\n                    \n            \n            \n                    09:20 AM\n                    BU 6 Behrends\n                    BU8 Scroggins\n                    BU10 McGill\n                    \n            \n            \n                    09:40 AM\n                    GU6 Angle Homes\n                    \n                    BU14 Patriot Fence & Handyman\n                    \n            \n            \n                    10:00 AM\n                    GU12 Mobile Munchies\n                    BU6 Strada\n                    BU6 Stutler Cabinets\n                    \n            \n            \n                    10:20 AM\n                    BU8 High Desert Hyundai\n                    GU10 Kingman Dermatology\n                    GU8 The Tilted Tulip\n                    \n            \n            \n                    10:40 AM\n                    BU14 Bulldog Disposal\n                    BU14 Mohave Eye\n                    BU8 K-Town Bouncers\n                    \n            \n            \n                    11:00 AM\n                    BU17 Monolith Diagnostics\n                    BU10 Kingman's Cut Lounge\n                    \n                    \n            \n            \n                    11:20 AM\n                    \n                    GU12 High Desert Hyundai\n                    GU12 Kingman Honda\n                    \n            \n            \n                    11:40 AM\n                    BU8 Richard Davis Plumbing\n                    BU8 Pesty Pest Control\n                    BU8 River Rock Promotions\n                    \n            \n            \n                    12:00 PM\n                    GU10 Cerbat Dental\n                    GU10 Real Property Management\n                    \n                    \n            \n            \n                    12:20 PM\n                    GU12 Parvalthaneni Nephrology\n                    \n                    \n                    \n            \n            \n                    12:40 PM\n                    \n                    \n                    \n                    \n            \n            \n                    01:00 PM\n                    BU10 Barkhurst Electric\n                    BU10 Manglesdorf Fam Dentistry\n                    BU12 FOP\n                    \n            \n            \n                    01:20 PM\n                    GU17 The Human Bean\n                    GU10 Eads Quality Top Shop\n                    BU12 Arizona Desert Dermatology\n                    \n            \n            \n\n        \n    \n\n        Generated by wpDataTables\n\n\n  \n\n    \n        Error\n        One or more columns doesn't have a header. Please enter headers for all columns in order to proceed.\n    \n\n \n  \n  \n  \n  \n  \n  \n  \n  \n 
URL:https://kingmansoccer.com/event/2023-picture-schedule/
LOCATION:AZ
END:VEVENT
BEGIN:VEVENT
DTSTART;VALUE=DATE:20230916
DTEND;VALUE=DATE:20230917
DTSTAMP:20260423T094020
CREATED:20230602T172017Z
LAST-MODIFIED:20230901T180010Z
UID:1176-1694822400-1694908799@kingmansoccer.com
SUMMARY:Week 2 of Games & Day 1 of Pictures
DESCRIPTION:
URL:https://kingmansoccer.com/event/week-2-of-games-day-1-of-pictures/
LOCATION:Centennial Park – Kingman\, AZ\, 3333 Harrison St\, Kingman\, AZ\, 86409\, United States
END:VEVENT
BEGIN:VEVENT
DTSTART;TZID=America/Phoenix:20230915T180000
DTEND;TZID=America/Phoenix:20230915T200000
DTSTAMP:20260423T094020
CREATED:20230828T175634Z
LAST-MODIFIED:20230828T175634Z
UID:1966-1694800800-1694808000@kingmansoccer.com
SUMMARY:Coaches Clinics – Club Practice night
DESCRIPTION:Coach Clinic\nFriday night Stuart and Aaron our director of coaches will hold clinics at 6 PM at Centennial Field. This is an excellent primer for the brand new coach as well as experienced coaches. They help by providing a weekly coaching plan. This also acts as a forum to meet other coaches and ask questions. \nClub Night Practices\nAt 6pm in conjunction with the clinic we also have open club practice. Any player who is registered for rec and aspires to be a future club player is encourage to come. Current club players are also welcome. If you a new player and not registered with KYSL in any way you are welcome to expand your skills. You will need to sign a waiver. This is our effort to provide year round club practices and support. This a mixed age group but something to learn for every player.\nFor new club hopefuls this can get you in touch with our program\, find out the age group coach and just be on the radar. \nBoth events will run through the 8 week recreation season. We look forward to you coming out and enjoying some soccer with us.
URL:https://kingmansoccer.com/event/coaches-clinics-club-practice-night-2/
LOCATION:Centennial Park\, 3333 & 3345 Harrison St\, Kingman\, AZ 86409\, 3345 Harrison\, Kingman\, Arizona\, 86409
END:VEVENT
BEGIN:VEVENT
DTSTART;VALUE=DATE:20230909
DTEND;VALUE=DATE:20230910
DTSTAMP:20260423T094020
CREATED:20230824T190806Z
LAST-MODIFIED:20230902T211737Z
UID:1529-1694217600-1694303999@kingmansoccer.com
SUMMARY:Week 1 of Games
DESCRIPTION:
URL:https://kingmansoccer.com/event/week-1-of-games/
LOCATION:Centennial Park\, 3333 & 3345 Harrison St\, Kingman\, AZ 86409\, 3345 Harrison\, Kingman\, Arizona\, 86409
ORGANIZER;CN="Director of Referees":MAILTO:directorofreferees@kingmansoccer.com
END:VEVENT
BEGIN:VEVENT
DTSTART;TZID=America/Phoenix:20230908T180000
DTEND;TZID=America/Phoenix:20230908T200000
DTSTAMP:20260423T094020
CREATED:20230602T171918Z
LAST-MODIFIED:20230901T174713Z
UID:1174-1694196000-1694203200@kingmansoccer.com
SUMMARY:Opening Ceremonies Friday Evening
DESCRIPTION:Please have players there at 530PM to get lined up and meet with their team.
URL:https://kingmansoccer.com/event/opening-friday-evening/
LOCATION:Centennial Park – Kingman\, AZ\, 3333 Harrison St\, Kingman\, AZ\, 86409\, United States
ORGANIZER;CN="Director of Referees":MAILTO:directorofreferees@kingmansoccer.com
END:VEVENT
BEGIN:VEVENT
DTSTART;TZID=America/Phoenix:20230905T180000
DTEND;TZID=America/Phoenix:20230905T183000
DTSTAMP:20260423T094020
CREATED:20230904T224929Z
LAST-MODIFIED:20230904T225518Z
UID:2318-1693936800-1693938600@kingmansoccer.com
SUMMARY:Ref Meeting for all current and new KYSL refs.
DESCRIPTION:
URL:https://kingmansoccer.com/event/ref-meeting-for-all-current-and-new-kysl-refs/
LOCATION:Centennial Park – Kingman\, AZ\, 3333 Harrison St\, Kingman\, AZ\, 86409\, United States
ORGANIZER;CN="Director of Referees":MAILTO:directorofreferees@kingmansoccer.com
END:VEVENT
BEGIN:VEVENT
DTSTART;TZID=America/Phoenix:20230901T180000
DTEND;TZID=America/Phoenix:20230901T200000
DTSTAMP:20260423T094020
CREATED:20230828T174834Z
LAST-MODIFIED:20230901T182959Z
UID:1957-1693591200-1693598400@kingmansoccer.com
SUMMARY:Cancelled due to field conditions.Coaches Clinics - Club Practice night
DESCRIPTION:Cancelled due to standing water on the field. Will resume on 9/15/2023 \n  \nCoach Clinic\nFriday night Stuart and Aaron our director of coaches will hold clinics at 6 PM at Centennial Field. This is an excellent primer for the brand new coach as well as experienced coaches. They help by providing a weekly coaching plan. This also acts as a forum to meet other coaches and ask questions. \nClub Night Practices\nAt 6pm in conjunction with the clinic we also have open club practice. Any player who is registered for rec and aspires to be a future club player is encourage to come. Current club players are also welcome. If you a new player and not registered with KYSL in any way you are welcome to expand your skills. You will need to sign a waiver. This is our effort to provide year round club practices and support. This a mixed age group but something to learn for every player.\nFor new club hopefuls this can get you in touch with our program\, find out the age group coach and just be on the radar. \nBoth events will run through the 8 week recreation season. We look forward to you coming out and enjoying some soccer with us.
URL:https://kingmansoccer.com/event/coaches-clinics-club-practice-night/
LOCATION:Centennial Park\, 3333 & 3345 Harrison St\, Kingman\, AZ 86409\, 3345 Harrison\, Kingman\, Arizona\, 86409
END:VEVENT
BEGIN:VEVENT
DTSTART;VALUE=DATE:20230823
DTEND;VALUE=DATE:20230824
DTSTAMP:20260423T094020
CREATED:20230602T171126Z
LAST-MODIFIED:20230823T172238Z
UID:1167-1692748800-1692835199@kingmansoccer.com
SUMMARY:Coach Training: Make Up
DESCRIPTION:For all those coaches that were not able to make the past coaches meeting you need to attend this one. You this attendance is required to get you Coach Incentive Credit \nWhen: August 22\,2023 \nTime: 6 P.M> \nWhere: Unisource Building 2498 Airway Ave\, Kingman AZ 86409 \nPlease park around back and use the rear entrance. Door should be open. Proceed into the conference room. You will receive you coaches bag and coach presentation.
URL:https://kingmansoccer.com/event/coach-training-make-up/
LOCATION:AZ
END:VEVENT
BEGIN:VEVENT
DTSTART;VALUE=DATE:20230819
DTEND;VALUE=DATE:20230820
DTSTAMP:20260423T094020
CREATED:20230602T170958Z
LAST-MODIFIED:20230602T171231Z
UID:1165-1692403200-1692489599@kingmansoccer.com
SUMMARY:Coach Training
DESCRIPTION:All coaches need to attend the annual training to go over rules and expectations of the league. We will meet indoors and then have an outdoor session. Coaches need to attend at least one meeting in order to receive their rosters. \nMore details to come.
URL:https://kingmansoccer.com/event/coach-training/
LOCATION:Centennial Park\, 3333 & 3345 Harrison St\, Kingman\, AZ 86409\, 3345 Harrison\, Kingman\, Arizona\, 86409
END:VEVENT
BEGIN:VEVENT
DTSTART;TZID=America/Phoenix:20230812T080000
DTEND;TZID=America/Phoenix:20230812T120000
DTSTAMP:20260423T094020
CREATED:20230724T020525Z
LAST-MODIFIED:20230724T022628Z
UID:1379-1691827200-1691841600@kingmansoccer.com
SUMMARY:Referee Field Training
DESCRIPTION:
URL:https://kingmansoccer.com/event/referee-field-training/
LOCATION:Centennial Park – Kingman\, AZ\, 3333 Harrison St\, Kingman\, AZ\, 86409\, United States
END:VEVENT
BEGIN:VEVENT
DTSTART;VALUE=DATE:20230715
DTEND;VALUE=DATE:20230716
DTSTAMP:20260423T094020
CREATED:20230602T170712Z
LAST-MODIFIED:20230602T173117Z
UID:1162-1689379200-1689465599@kingmansoccer.com
SUMMARY:Referee Training
DESCRIPTION:New and returning referees need to contact Tory Mortensen at directorofreferees@kingmansoccer.com. Referees will need to be registered for an online class for new and returning participants. New referees will also need to complete an in person field training that will be scheduled after the online training is completed. \nTraining will start at 8 am and will last a good majority of the day.
URL:https://kingmansoccer.com/event/referee-training/
LOCATION:Mohave County Sherrif Department\, 600 W Beale St\, Kingman\, AZ\, 86401\, United States
CATEGORIES:Meetings
ORGANIZER;CN="Director of Referees":MAILTO:directorofreferees@kingmansoccer.com
END:VEVENT
BEGIN:VEVENT
DTSTART;VALUE=DATE:20230701
DTEND;VALUE=DATE:20230813
DTSTAMP:20260423T094020
CREATED:20230409T035735Z
LAST-MODIFIED:20230409T035735Z
UID:1133-1688169600-1691884799@kingmansoccer.com
SUMMARY:Coach & Player Registration
DESCRIPTION:
URL:https://kingmansoccer.com/event/coach-player-registration/
LOCATION:AZ
END:VEVENT
BEGIN:VEVENT
DTSTART;TZID=America/Phoenix:20230128T150000
DTEND;TZID=America/Phoenix:20230128T160000
DTSTAMP:20260423T094020
CREATED:20221229T071859Z
LAST-MODIFIED:20221229T071859Z
UID:1090-1674918000-1674921600@kingmansoccer.com
SUMMARY:KYSL AGM
DESCRIPTION:Kingman Youth Soccer League is a nonprofit organization that currently has over 800 players\, 70 coaches\, 50 sponsors\, and 30 referees. Running this league couldn’t be done without the help of our board members and volunteers. We are looking for new board numbers to join our organization. At this meeting will discuss the upcoming soccer season\, vote in new board members and re-establishing current board member rolls. If you are interested in helping out in any way with our recreational soccer program\, this is where to begin.
URL:https://kingmansoccer.com/event/kysl-agm/
LOCATION:Centennial Park\, 3333 & 3345 Harrison St\, Kingman\, AZ 86409\, 3345 Harrison\, Kingman\, Arizona\, 86409
END:VEVENT
BEGIN:VEVENT
DTSTART;VALUE=DATE:20220701
DTEND;VALUE=DATE:20221106
DTSTAMP:20260423T094020
CREATED:20220417T032818Z
LAST-MODIFIED:20220417T032900Z
UID:957-1656633600-1667692799@kingmansoccer.com
SUMMARY:2022 Fall Recreational Season
DESCRIPTION:Grasshoppers: Age 3 $50 ($60 late fee) \nU6-U18: $70 ($80 late fee) \nJuly 1: Online registration starts. \nJuly (date to be determined): Referee Training \nAugust 13: Coach Meeting \nSeptember 10: Opening Ceremonies\, Game 1\, Picture Day 1 \nSeptember 17: Game 2\, Picture Day 2 \nSeptember 24: Game 3 \nOctober 1: Game 4 \nOctober 8: Game 5 \nOctober 15: Game 6 \nOctober 22: Game 7 \nOctober 29: Game 8 \nNovember 5: Playoffs Division U10 to U18\, Closing Ceremonies \n*Some divisions will have week day games. \n*Some divisions may have weeknight playoff games. \n*Make up games for weather will only be rescheduled if time permits\, without extending our season dates.
URL:https://kingmansoccer.com/event/2022-fall-recreational-season/
LOCATION:Centennial Park – Kingman\, AZ\, 3333 Harrison St\, Kingman\, AZ\, 86409\, United States
ORGANIZER;CN="Director of Referees":MAILTO:directorofreferees@kingmansoccer.com
END:VEVENT
BEGIN:VEVENT
DTSTART;TZID=America/Phoenix:20220212T100000
DTEND;TZID=America/Phoenix:20220212T113000
DTSTAMP:20260423T094020
CREATED:20220129T205717Z
LAST-MODIFIED:20220129T210414Z
UID:954-1644660000-1644665400@kingmansoccer.com
SUMMARY:KYSL 2022 AGM
DESCRIPTION:It’s that time of year again\, time to meet on behalf of Kingman Youth Soccer League to prepare for the 2022 season. We have a wonderful group of volunteers working behind the scenes to run this program\, however\, we are always in need of enthusiastic new members to fill vacant positions. \nPlease join us on February 12\, @ 10:00 am in the Mohave County Library conference room. \nCurrent open board positions are… \nVice President \nRegistrar \nDirector of Referees \nDirector of Equipment \nDirector of League Logistics \nDirector of Fundraising \nDirector of Club
URL:https://kingmansoccer.com/event/kysl-2022-agm/
LOCATION:AZ
ORGANIZER;CN="Director of Referees":MAILTO:directorofreferees@kingmansoccer.com
END:VEVENT
BEGIN:VEVENT
DTSTART;VALUE=DATE:20210821
DTEND;VALUE=DATE:20210822
DTSTAMP:20260423T094020
CREATED:20210622T051029Z
LAST-MODIFIED:20210622T051029Z
UID:788-1629504000-1629590399@kingmansoccer.com
SUMMARY:2021 Coach Meeting
DESCRIPTION:All 2021 coaches will need to attend the coach meeting on August 21. Details on location and time will be posted as soon as possible.
URL:https://kingmansoccer.com/event/2021-coach-meeting/
LOCATION:AZ
CATEGORIES:Meetings
END:VEVENT
BEGIN:VEVENT
DTSTART;VALUE=DATE:20210701
DTEND;VALUE=DATE:20210816
DTSTAMP:20260423T094020
CREATED:20210319T232942Z
LAST-MODIFIED:20210319T233022Z
UID:743-1625097600-1629071999@kingmansoccer.com
SUMMARY:2021 Fall Registration
DESCRIPTION:Fall registration will open in July. This will include player\, referee\, and coach registration. The link will be posted at that time. \nGames will start in September and end by November 1.
URL:https://kingmansoccer.com/event/2021-fall-registration/
LOCATION:AZ
END:VEVENT
BEGIN:VEVENT
DTSTART;TZID=America/Phoenix:20210206T100000
DTEND;TZID=America/Phoenix:20210206T130000
DTSTAMP:20260423T094020
CREATED:20200618T055739Z
LAST-MODIFIED:20210107T035133Z
UID:421-1612605600-1612616400@kingmansoccer.com
SUMMARY:2021 AGM
DESCRIPTION:KYSL AGM Meeting: 2/6/2021\nVirtual Meeting 10 AM\nPositions Needing to be filled:\nPresident\, Vice President\, Treasurer\, Director of Games/Schedules\, Director of Publicity\n\n\nhttps://us02web.zoom.us/j/82373621836…\n\n\nMeeting ID: 823 7362 1836\nPasscode: 985857\n\n\nhttps://docs.google.com/…/1hMHdTBAZE…/edit…
URL:https://kingmansoccer.com/event/registration-ends/
LOCATION:AZ
END:VEVENT
END:VCALENDAR