BEGIN:VCALENDAR
VERSION:2.0
PRODID:-//Kingman Soccer Club - ECPv6.15.20//NONSGML v1.0//EN
CALSCALE:GREGORIAN
METHOD:PUBLISH
X-ORIGINAL-URL:https://kingmansoccer.com
X-WR-CALDESC:Events for Kingman Soccer Club
REFRESH-INTERVAL;VALUE=DURATION:PT1H
X-Robots-Tag:noindex
X-PUBLISHED-TTL:PT1H
BEGIN:VTIMEZONE
TZID:America/Phoenix
BEGIN:STANDARD
TZOFFSETFROM:-0700
TZOFFSETTO:-0700
TZNAME:MST
DTSTART:20220101T000000
END:STANDARD
END:VTIMEZONE
BEGIN:VEVENT
DTSTART;TZID=America/Phoenix:20230922T180000
DTEND;TZID=America/Phoenix:20230922T200000
DTSTAMP:20260423T140316
CREATED:20230826T232711Z
LAST-MODIFIED:20230914T154859Z
UID:1750-1695405600-1695412800@kingmansoccer.com
SUMMARY:Club Tryouts 9/22/2023
DESCRIPTION:Kingman SC will hold annual tryouts at Cenntenial Park. We have openings in all age groups u8 and up. \n \n  \n 
URL:https://kingmansoccer.com/event/club-tryouts-save-the-date/
LOCATION:Centennial Park – Kingman\, AZ\, 3333 Harrison St\, Kingman\, AZ\, 86409\, United States
CATEGORIES:Special Events
END:VEVENT
END:VCALENDAR